BEGIN:VCALENDAR
VERSION:2.0
PRODID:-//Tukios.com/
BEGIN:VEVENT
UID:9877f422-b5c6-4cd8-b60e-04254781e3c3@www.heritagefuneralservices.com
DTSTAMP:20260420T015219Z
DTSTART:20260422T200000Z
DTEND:20260422T210000Z
SUMMARY:Memorial Service
DESCRIPTION:
URL:https://www.heritagefuneralservices.com/obituaries/ronnie-hamby
LOCATION:Oak Ridge Baptist Church 7449 Oak Ridge Church Road  Connelly 
	Springs NC 28612
GEO:35.7542394;-81.4794768
END:VEVENT
END:VCALENDAR