BEGIN:VCALENDAR
VERSION:2.0
PRODID:-//Tukios.com/
BEGIN:VEVENT
UID:84af8ccc-7648-4b87-89cd-e35c62320d79@www.heritagefuneralservices.com
DTSTAMP:20260420T014421Z
DTSTART:20260422T190000Z
DTEND:20260422T200000Z
SUMMARY:Visitation
DESCRIPTION:
URL:https://www.heritagefuneralservices.com/obituaries/ronnie-hamby
LOCATION:Oak Ridge Baptist Church 7449 Oak Ridge Church Road  Connelly 
	Springs NC 28612
GEO:35.7542394;-81.4794768
END:VEVENT
END:VCALENDAR