BEGIN:VCALENDAR
VERSION:2.0
PRODID:-//Tukios.com/
BEGIN:VEVENT
UID:d5ed6094-8880-4d62-9dfa-cbe2600b781a@www.heritagefuneralservices.com
DTSTAMP:20260424T203610Z
DTSTART:20260425T150000Z
DTEND:20260425T160000Z
SUMMARY:Memorial Service
DESCRIPTION:
URL:https://www.heritagefuneralservices.com/obituaries/susan-dzmura
LOCATION:Waldensian Presbyterian Church Cemetery 109 Main Street East  
	Valdese NC 28690
GEO:35.7429604;-81.5624753
END:VEVENT
END:VCALENDAR